BEGIN:VCALENDAR
VERSION:2.0
PRODID:Events Booking
BEGIN:VEVENT
UID:69e9b7102ad54
SUMMARY:Mentoring Fall 2023 Session Signup (Mentors)
DESCRIPTION:
DTSTART:20231016T070000Z
DTEND:20231028T065500Z
DTSTAMP:20260423T060712Z
ORGANIZER;CN=PMI Portland Chapter:MAILTO:communications@pmi-portland.org
END:VEVENT
END:VCALENDAR