BEGIN:VCALENDAR
VERSION:2.0
PRODID:Events Booking
BEGIN:VEVENT
UID:69eab5a293c75
SUMMARY:Mentoring Fall Session Signup (Mentors)
DESCRIPTION:
DTSTART:20221101T070000Z
DTEND:20221115T075500Z
DTSTAMP:20260424T001322Z
ORGANIZER;CN=PMI Portland Chapter:MAILTO:communications@pmi-portland.org
END:VEVENT
END:VCALENDAR