BEGIN:VCALENDAR
VERSION:2.0
PRODID:Events Booking
BEGIN:VEVENT
UID:69eab594001b5
SUMMARY:Mentoring Fall Session Signup (Mentees)
DESCRIPTION:
DTSTART:20221101T070000Z
DTEND:20221115T075500Z
DTSTAMP:20260424T001308Z
ORGANIZER;CN=PMI Portland Chapter:MAILTO:communications@pmi-portland.org
END:VEVENT
END:VCALENDAR