BEGIN:VCALENDAR
VERSION:2.0
PRODID:Events Booking
BEGIN:VEVENT
UID:69e717d25a823
SUMMARY:Member Appreciation Event
DESCRIPTION:Member Appreciation Event at Old Market Pub and Brewery
LOCATION:6959 SW Multnomah Blvd\, Portland\, OR 97223\, USA
DTSTART:20251119T023000Z
DTEND:20251119T050000Z
DTSTAMP:20260421T062314Z
ORGANIZER;CN=PMI Portland Chapter:MAILTO:communications@pmi-portland.org
GEO:45.465831;-122.748549
X-APPLE-STRUCTURED-LOCATION;VALUE=URI;X-ADDRESS=6959 SW Multnomah Blvd\, Po
 rtland\, OR 97223\, USA;X-APPLE-RADIUS=72;X-TITLE=Old Market Pub and Brewe
 ry:45.465831;-122.748549
END:VEVENT
END:VCALENDAR