BEGIN:VCALENDAR
VERSION:2.0
PRODID:Events Booking
BEGIN:VEVENT
UID:69e82640d37d9
SUMMARY:INTERFACE Portland 2025
DESCRIPTION:
 
 Covering&nbsp\;Information Security\, Infrastructure\, Cl
 oud\, Disaster Recovery\, Communications\, and more.
 
 No cost for&nbsp
 \;IT professionals&nbsp\;to attend&nbsp\;
 Will serve morning coffee and 
 lunch at Noon
 Access to over&nbsp\;30 exhibitor booths
 Earn up to&nbsp
 \;7&nbsp\;CPE credits during the day
 One lucky attendee will win $1000 i
 n a passport drawing
 
 
 
LOCATION:777 NE MLK Blvd
DTSTART:20250321T153000Z
DTEND:20250321T113000Z
DTSTAMP:20250121T080905Z
ORGANIZER;CN=PMI Portland Chapter:MAILTO:communications@pmi-portland.org
GEO:45.529553;-122.646316
X-APPLE-STRUCTURED-LOCATION;VALUE=URI;X-ADDRESS=777 NE MLK Blvd;X-APPLE-RAD
 IUS=72;X-TITLE=Oregon Convention Center:45.529553;-122.646316
END:VEVENT
END:VCALENDAR