BEGIN:VCALENDAR
VERSION:2.0
PRODID:Events Booking
BEGIN:VEVENT
UID:69ea2aadb477f
SUMMARY:Essential Software Requirements (Sponsored by IIBA)
DESCRIPTION:
 &nbsp\;
 &nbsp\;
 Many big books on software requirements 
 and business analysis recommend dozens and dozens of practices. They’re 
 all useful in appropriate situations\, but it’s daunting to try to remem
 ber—let alone implement—the whole set consistently. However\, every pr
 oject should perform 20 core requirements activities. These lay a solid fo
 undation for success and help teams efficiently and effectively elicit\, a
 nalyze\, specify\, validate\, and manage their requirements. These practic
 es are valuable for both traditional and agile projects\, regardless of th
 e kind of product you’re building.
DTSTART:20230510T011500Z
DTEND:20230510T030000Z
DTSTAMP:20260423T142029Z
ORGANIZER;CN=PMI Portland Chapter:MAILTO:communications@pmi-portland.org
END:VEVENT
END:VCALENDAR