BEGIN:VCALENDAR
VERSION:2.0
PRODID:Events Booking
BEGIN:VEVENT
UID:69e8241ecc86f
SUMMARY:Emotional Intelligence for Leaders
DESCRIPTION:
 &nbsp\;
 &nbsp\;
 In this dynamic workshop\, participants 
 will explore the key&nbsp\;components of Emotional Intelligence&nbsp\;(EQ)
  and how they directly impact effective leadership. By&nbsp\;understanding
  and applying EQ&nbsp\;principles\, leaders can enhance their ability to m
 anage their&nbsp\;emotions\, empathize with others\,and navigate complex i
 nterpersonal dynamics with confidence. This&nbsp\;workshop will provide&nb
 sp\;practical strategies for improving self-awareness\, emotional&nbsp\;re
 gulation\, and social skills\,&nbsp\;empowering leaders to create positive
  work environments and drive&nbsp\;team success.
LOCATION:Unique URL pending Registration
DTSTART:20250326T190000Z
DTEND:20250326T200000Z
DTSTAMP:20260422T012758Z
ORGANIZER;CN=PMI Portland Chapter:MAILTO:communications@pmi-portland.org
GEO:45.50647;-122.667988
X-APPLE-STRUCTURED-LOCATION;VALUE=URI;X-ADDRESS=Unique URL pending Registra
 tion;X-APPLE-RADIUS=72;X-TITLE=Virtual:45.50647;-122.667988
END:VEVENT
END:VCALENDAR