BEGIN:VCALENDAR
VERSION:2.0
PRODID:Events Booking
BEGIN:VEVENT
UID:69e7dd4c17347
SUMMARY:Effective Mentorship: A Panel Discussion with PMI Mentors
DESCRIPTION:
 &nbsp\;
 &nbsp\;
 Join us for an engaging panel discussion
 \, \"Effective Mentorship: A Panel Discussion with PMI Mentors\" Hear from
  experienced PMI mentors as they share their journeys\, insights\, and pra
 ctical advice on effective mentorship. This session will provide valuable 
 perspectives for both aspiring and current mentors.
LOCATION:Unique URL pending Registration
DTSTART:20250611T000000Z
DTEND:20250611T010000Z
DTSTAMP:20260421T202548Z
ORGANIZER;CN=PMI Portland Chapter:MAILTO:communications@pmi-portland.org
GEO:45.50647;-122.667988
X-APPLE-STRUCTURED-LOCATION;VALUE=URI;X-ADDRESS=Unique URL pending Registra
 tion;X-APPLE-RADIUS=72;X-TITLE=Virtual:45.50647;-122.667988
END:VEVENT
END:VCALENDAR