BEGIN:VCALENDAR
VERSION:2.0
PRODID:Events Booking
BEGIN:VEVENT
UID:69e9d10147813
SUMMARY:Chapter Meeting – Working with Others:  An Exploration into Human
  Operation in Complex and Complicated Environments
DESCRIPTION:Chapter Meeting and Annual Chapter meeting
 Topic:&nbsp\;Worki
 ng with Others:&nbsp\; An Exploration into Human Operation in&nbsp\;Comple
 x and Complicated Environments
DTSTART:20230920T013000Z
DTEND:20230920T030000Z
DTSTAMP:20230925T221530Z
ORGANIZER;CN=PMI Portland Chapter:MAILTO:communications@pmi-portland.org
END:VEVENT
END:VCALENDAR