BEGIN:VCALENDAR
VERSION:2.0
PRODID:Events Booking
BEGIN:VEVENT
UID:69e9a1b4ad748
SUMMARY:Chapter Meeting – PM Crossroads: Where Product and Project Manage
 ment Meet
DESCRIPTION:Chapter Meeting
 Topic:&nbsp\;PM Crossroads: Where Product and
  Project Management Meet
 Join us for an illuminating panel discussion br
 ought to you by PMI Portland Chapter\, where theintricate worlds of Produc
 t and Project Management converge. \"PM Crossroads: Where Product and&nbsp
 \;Project Management Meet\" aims to demystify the roles\, responsibilities
 \, and relationships between&nbsp\;Product Managers and Project Managers i
 n today’s fast-paced technology landscape.
LOCATION:721 NW 9th Ave\, Portland\, OR 97209\, USA
DTSTART:20231115T023000Z
DTEND:20231115T043000Z
DTSTAMP:20230925T221530Z
ORGANIZER;CN=PMI Portland Chapter:MAILTO:communications@pmi-portland.org
GEO:45.52823;-122.68058
X-APPLE-STRUCTURED-LOCATION;VALUE=URI;X-ADDRESS=721 NW 9th Ave\, Portland\,
  OR 97209\, USA;X-APPLE-RADIUS=72;X-TITLE=Eco Trust Billy Frank Jr. Confer
 ence Room  :45.52823;-122.68058
END:VEVENT
END:VCALENDAR