BEGIN:VCALENDAR
VERSION:2.0
PRODID:Events Booking
BEGIN:VEVENT
UID:69eacba3ebfbb
SUMMARY:Chapter Meeting – Emotionally Intelligent Project Manager (Virtua
 l) 
DESCRIPTION:
 &nbsp\;
 &nbsp\;
 Summary:
 In this engaging&nbsp\;talk\,
  Amber will translate the 5 aspects of Emotional&nbsp\;intelligence (EQ) t
 hrough the lens of PMI's 12 principles of project management. Prepare to b
 e inspired and encouraged to grow in your own leadership journey.
LOCATION:Unique URL pending Registration
DTSTART:20221021T013000Z
DTEND:20221021T033000Z
DTSTAMP:20260424T014715Z
ORGANIZER;CN=PMI Portland Chapter:MAILTO:communications@pmi-portland.org
GEO:45.50647;-122.667988
X-APPLE-STRUCTURED-LOCATION;VALUE=URI;X-ADDRESS=Unique URL pending Registra
 tion;X-APPLE-RADIUS=72;X-TITLE=Virtual:45.50647;-122.667988
END:VEVENT
END:VCALENDAR