BEGIN:VCALENDAR
VERSION:2.0
PRODID:Events Booking
BEGIN:VEVENT
UID:69eab5ebc7814
SUMMARY:Chapter Meeting – Globally Dispersed Project Teams (In Person)
DESCRIPTION:
 Summary:
 &nbsp\;
 Join us at an exciting new venue for ou
 r panel event \"Globally Dispersed Project Teams\". Our experienced panel 
 of project managers will answer questions about the challenges and best pr
 actices for managing globally dispersed project teams. The panel will touc
 h on how to measure success\, what the benefits are and what managing thes
 e teams looks like. They'll highlight some success stories and maybe share
  a horror story! Attendees are able to jump in with their own questions wi
 th ample Q&amp\;A opportunities.
 ENSO Winery is located in SE Portland. 
 Wine will be available to purchase\, PMI Portland Chapter will host light 
 appetizers from Elephant's Deli. Please register by November 11th so we ha
 ve an accurate count for our food order.
 This meeting will be worth 1 PD
 U in the Strategic category of the Talent Triangle.
LOCATION:1416 SE Stark St\, Portland\, OR 97214\, USA
DTSTART:20221116T023000Z
DTEND:20221116T043000Z
DTSTAMP:20260424T001435Z
ORGANIZER;CN=PMI Portland Chapter:MAILTO:communications@pmi-portland.org
GEO:45.519134;-122.651165
X-APPLE-STRUCTURED-LOCATION;VALUE=URI;X-ADDRESS=1416 SE Stark St\, Portland
 \, OR 97214\, USA;X-APPLE-RADIUS=72;X-TITLE=ENSO Winery:45.519134;-122.651
 165
END:VEVENT
END:VCALENDAR