BEGIN:VCALENDAR
VERSION:2.0
PRODID:Events Booking
BEGIN:VEVENT
UID:69eab5ad0cc3d
SUMMARY:Chapter Meeting – Globally Dispersed Project Teams (Virtual)
DESCRIPTION:Summary:
 &nbsp\;Join us at an exciting new venue for our pane
 l event \"Globally Dispersed Project Teams\". Our experienced panel of pro
 ject managers will answer questions about the challenges and best practice
 s for managing globally dispersed project teams. The panel will touch on h
 ow to measure success\, what the benefits are and what managing these team
 s looks like. They'll highlight some success stories and maybe share a hor
 ror story! Attendees are able to jump in with their own questions with amp
 le Q&amp\;A opportunities.
 This meeting will be worth 1 PDU in the Strat
 egic category of the Talent Triangle.
LOCATION:Portland\, Oregon
DTSTART:20221116T023000Z
DTEND:20221116T043000Z
DTSTAMP:20260424T001333Z
ORGANIZER;CN=PMI Portland Chapter:MAILTO:communications@pmi-portland.org
GEO:45.505106;-122.675026
X-APPLE-STRUCTURED-LOCATION;VALUE=URI;X-ADDRESS=Portland\, Oregon;X-APPLE-R
 ADIUS=72;X-TITLE=PMI Portland Virtual Meeting:45.505106;-122.675026
END:VEVENT
END:VCALENDAR