BEGIN:VCALENDAR
VERSION:2.0
PRODID:Events Booking
BEGIN:VEVENT
UID:69e737a81de7f
SUMMARY:Chapter Meeting – Developing Strengths Based Project Teams (Virtu
 al) 
DESCRIPTION:
 &nbsp\;
 &nbsp\;
 Summary:
 Everyone has talents and stre
 ngths.&nbsp\; Everyone does projects.&nbsp\; What&nbsp\;would happen if yo
 u integrated your talents and strengths with&nbsp\;project management -- t
 o become a strengths-based project team?&nbsp\;&nbsp\;Find out by attendin
 g this interactive session.
LOCATION:Unique URL pending Registration
DTSTART:20230322T013000Z
DTEND:20230322T030000Z
DTSTAMP:20260421T083904Z
ORGANIZER;CN=PMI Portland Chapter:MAILTO:communications@pmi-portland.org
GEO:45.50647;-122.667988
X-APPLE-STRUCTURED-LOCATION;VALUE=URI;X-ADDRESS=Unique URL pending Registra
 tion;X-APPLE-RADIUS=72;X-TITLE=Virtual:45.50647;-122.667988
END:VEVENT
END:VCALENDAR