BEGIN:VCALENDAR
VERSION:2.0
PRODID:Events Booking
BEGIN:VEVENT
UID:69eb6621af608
SUMMARY:Chapter Meeting – Combining Six Sigma and Project Management Best
  Practices (Virtual)
DESCRIPTION:
 &nbsp\;
 &nbsp\;
 Summary:
 Join us for our March Virtual
  Chapter Meeting where Crystal Fugere will talk about the SIPOC model\, a 
 cornerstone of the Six Sigma DMAIC methodology\, when DMAIC is in the \"De
 fine\" and \"Measure\" stages. Crystal is an experienced records analyst a
 nd workflow specialist with a demonstrated history of working in the utili
 ties industry. Skilled in event planning\, Microsoft software\, public spe
 aking\, process development\, records management\, training\, and research
 \, she has&nbsp\; worked with Pacific Gas and Electric\, ActOne Government
  Solutions\, Bonneville Power Administration and Mill Plain Electric.
LOCATION:Unique URL pending Registration
DTSTART:20220316T003000Z
DTEND:20220316T020000Z
DTSTAMP:20260424T124625Z
ORGANIZER;CN=PMI Portland Chapter:MAILTO:communications@pmi-portland.org
GEO:45.50647;-122.667988
X-APPLE-STRUCTURED-LOCATION;VALUE=URI;X-ADDRESS=Unique URL pending Registra
 tion;X-APPLE-RADIUS=72;X-TITLE=Virtual:45.50647;-122.667988
END:VEVENT
END:VCALENDAR