BEGIN:VCALENDAR
VERSION:2.0
PRODID:Events Booking
BEGIN:VEVENT
UID:69ea112423b77
SUMMARY:Chapter Meeting – Women Leading the Way In Non-Traditional PM Rol
 es
DESCRIPTION:&nbsp\;
 &nbsp\;Summary:
 COMBINED Outreach / Networking even
 t AND Chapter Meeting
 Join us at the beautiful Ecotrust Bldg - Billy Fra
 nk Jr Conf. Room\, 2nd Floor in NW PDX
 We want to see you in the flesh! 
 Come network\, learn\, and support your local chapter
 Dinner &amp\; Drin
 ks provided\, ample parking-&nbsp\;bring a friend and they get $10 off
 T
 opic: Women Leading the Way In Non-Traditional PM Roles -&nbsp\;We're talk
 ing about Project / Program Mgmt as seen through a different lens than wha
 t may be usually thought of and how many of the familiar PM tools can be u
 tilized in new and unique ways across&nbsp\; different industries
 Panel 
 discussion with:&nbsp\;
 Stefani Lombardo&nbsp\; PMP / CSM - Sr. Program/
 Project Mgr with Academy of Television Arts &amp\; Science
 Jenn Donahue 
 PMP / PE - Keynote Speaker / Retired US Navy Captain / Engineer / Business
  Owner
 Brianna LaBarge CSSBB / PMP / PMI-ACP - Ops Excellence Mgr with A
 SML
 Date&nbsp\;June 20th
 
 Location EcoTrust&nbsp\;721 NW 9th Ave\, 2
 nd Floor\, Portland\, OR 97209
 Pricing
 Non-Members\, $40
 Member $30
 
 
DTSTART:20230621T003000Z
DTEND:20230621T040000Z
DTSTAMP:20260423T123132Z
ORGANIZER;CN=PMI Portland Chapter:MAILTO:communications@pmi-portland.org
END:VEVENT
END:VCALENDAR