BEGIN:VCALENDAR
VERSION:2.0
PRODID:Events Booking
BEGIN:VEVENT
UID:69ea72d1bca1e
SUMMARY:Chapter Meeting – Change For Project Leaders (Virtual) 
DESCRIPTION:
 &nbsp\;
 &nbsp\;
 Summary:
 A recent Gallup study identif
 ied 2 of the 3 major reasons organizational projects fail (technical\, ind
 ividual and stakeholder) are related&nbsp\;to people or change factors. Of
 tentimes\, organizations rely solely on the change professional to address
  these factors. In this&nbsp\;engaging hands-on session\, we make the case
  for why project managers need to be personally invested in organizational
  change as part of their project efforts. Participants learn how to positi
 on change as absolutely essential to project success as well as how to eng
 age&nbsp\;project managers to help action critical change moments that mat
 ter that have a significant impact on project success.
LOCATION:Unique URL pending Registration
DTSTART:20230222T023000Z
DTEND:20230222T040000Z
DTSTAMP:20260423T192817Z
ORGANIZER;CN=PMI Portland Chapter:MAILTO:communications@pmi-portland.org
GEO:45.50647;-122.667988
X-APPLE-STRUCTURED-LOCATION;VALUE=URI;X-ADDRESS=Unique URL pending Registra
 tion;X-APPLE-RADIUS=72;X-TITLE=Virtual:45.50647;-122.667988
END:VEVENT
END:VCALENDAR