BEGIN:VCALENDAR
VERSION:2.0
PRODID:Events Booking
BEGIN:VEVENT
UID:69eb7e37a09fe
SUMMARY:Chapter Meeting – Developing High Performance Project Teams (Virt
 ual)
DESCRIPTION:
 &nbsp\;
 &nbsp\;
 Summary:
 Col. Garth Massey will speak 
 on best practices regarding how to develop high performance project teams.
  As a temporary endeavor\, project teams need to operate at a high level o
 n day one. Many times project team members don’t know each other\, come 
 from different departments\, companies\, countries and diverse backgrounds
 . This makes it difficult for a team to reach their&nbsp\; “performance 
 stage” in a short period of time. Col Massey is an expert in team develo
 pment and will share his leadership tactics and best practices to help tea
 ms achieve high performance.
LOCATION:Unique URL pending Registration
DTSTART:20220216T013000Z
DTEND:20220216T030000Z
DTSTAMP:20260424T142911Z
ORGANIZER;CN=PMI Portland Chapter:MAILTO:communications@pmi-portland.org
GEO:45.50647;-122.667988
X-APPLE-STRUCTURED-LOCATION;VALUE=URI;X-ADDRESS=Unique URL pending Registra
 tion;X-APPLE-RADIUS=72;X-TITLE=Virtual:45.50647;-122.667988
END:VEVENT
END:VCALENDAR