BEGIN:VCALENDAR
VERSION:2.0
PRODID:Events Booking
BEGIN:VEVENT
UID:69e88dc1c5556
SUMMARY:Chapter Meeting – Cybersecurity Project Management (Virtual) 
DESCRIPTION:
 &nbsp\;
 &nbsp\;
 Summary:
 Learning Objectives:
 
 Lea
 rn that the familiar project management tools and processes are directly a
 pplicable to cybersecurity projects\;
 Discover how complex project-relat
 ed standards critical for project success\, can be combined to improve the
  probability of project success\;
 
 See how project management maturity
  skills are transferable to cybersecurity optimization.
LOCATION:Unique URL pending Registration
DTSTART:20221214T023000Z
DTEND:20221214T043000Z
DTSTAMP:20260422T085841Z
ORGANIZER;CN=PMI Portland Chapter:MAILTO:communications@pmi-portland.org
GEO:45.50647;-122.667988
X-APPLE-STRUCTURED-LOCATION;VALUE=URI;X-ADDRESS=Unique URL pending Registra
 tion;X-APPLE-RADIUS=72;X-TITLE=Virtual:45.50647;-122.667988
END:VEVENT
END:VCALENDAR