BEGIN:VCALENDAR
VERSION:2.0
PRODID:Events Booking
BEGIN:VEVENT
UID:69eb4d41ead1d
SUMMARY:Chapter Meeting – Understanding PMBOK 7th Edition (In Person)
DESCRIPTION:
 &nbsp\;
 &nbsp\;
 Summary:
 The PMBOK 7th&nbsp\;edition r
 adical changes can be clearly exhibited by the fact that the guide is only
 &nbsp\;250 pages&nbsp\;in comparison to the 6th&nbsp\;edition’s 700 page
 s.
 Moving on to the 7th&nbsp\;edition structure\, PMI revealed that the 
 PMBOK new version is still involve the Standard for Project Management alo
 ng with the Guide to the Project Management Body of Knowledge. However\, t
 here will be some difference where the&nbsp\;Standard for Project Manageme
 nt&nbsp\;will be leading\, consisting of an introduction and covering the 
 Value Delivery System as well as&nbsp\;12 Project Management Principles: S
 tewardship\, Team\, Stakeholders\, Value\, Holistic Thinking\, Leadership\
 , Tailoring\, Quality\, Complexity\, Opportunities &amp\; Threats\, Adapta
 bility &amp\; Resilience\, and Change Management.
LOCATION:615 SE Alder St\, Portland\, OR 97214\, USA
DTSTART:20220420T003000Z
DTEND:20220420T020000Z
DTSTAMP:20260424T110017Z
ORGANIZER;CN=PMI Portland Chapter:MAILTO:communications@pmi-portland.org
GEO:45.518191;-122.659334
X-APPLE-STRUCTURED-LOCATION;VALUE=URI;X-ADDRESS=615 SE Alder St\, Portland\
 , OR 97214\, USA;X-APPLE-RADIUS=72;X-TITLE=Melody Ballroom:45.518191;-122.
 659334
END:VEVENT
END:VCALENDAR