BEGIN:VCALENDAR
VERSION:2.0
PRODID:Events Booking
BEGIN:VEVENT
UID:69e7429c9f146
SUMMARY:PMI Networking Coffee
DESCRIPTION:Networking and Coffee
LOCATION:5347 NE Sandy Blvd Portland\, OR 97213
DTSTART:20250904T140000Z
DTEND:20250904T150000Z
DTSTAMP:20230925T221530Z
ORGANIZER;CN=PMI Portland Chapter:MAILTO:communications@pmi-portland.org
END:VEVENT
END:VCALENDAR