BEGIN:VCALENDAR
VERSION:2.0
PRODID:Events Booking
BEGIN:VEVENT
UID:69e824867741d
SUMMARY:Chapter Meeting – Best Practices For The Current Job Market
DESCRIPTION:Recruiters from Apex Systems will go over current hiring trends
  and recommendations when applying for PM roles in the private job market.
  Apex Systems&nbsp\;is a global IT consulting firm that provides strategy\
 , transformation\, and managed services.&nbsp\;Boasting decades of combine
 d experience\, their&nbsp\;team of technology experts and solutions leader
 s deliver profound industry knowledge applicable to both the public and co
 mmercial sectors\, serving large enterprise clients and more.
LOCATION:6959 SW Multnomah Blvd\, Portland\, OR 97223\, USA
DTSTART:20250319T013000Z
DTEND:20250319T023000Z
DTSTAMP:20230925T221530Z
ORGANIZER;CN=PMI Portland Chapter:MAILTO:communications@pmi-portland.org
GEO:45.465831;-122.748549
X-APPLE-STRUCTURED-LOCATION;VALUE=URI;X-ADDRESS=6959 SW Multnomah Blvd\, Po
 rtland\, OR 97223\, USA;X-APPLE-RADIUS=72;X-TITLE=Old Market Pub and Brewe
 ry:45.465831;-122.748549
END:VEVENT
END:VCALENDAR