BEGIN:VCALENDAR
VERSION:2.0
PRODID:Events Booking
BEGIN:VEVENT
UID:69e71819afcee
SUMMARY:PM in the AM
DESCRIPTION:
 Build camaraderie within the PM community of Portland\, stre
 ngthen networking and fellowship\, elevate chapter membership and increase
  awareness of PMI-PDX sponsored activities.
 
LOCATION:Coava Coffee Roasters in Portland\, OR\, USA\, 1300 SE Grand Ave a
 \, Portland\, OR 97214\, USA
DTSTART:20251106T150000Z
DTEND:20251106T160000Z
DTSTAMP:20230925T221530Z
ORGANIZER;CN=PMI Portland Chapter:MAILTO:communications@pmi-portland.org
GEO:45.513549;-122.660602
X-APPLE-STRUCTURED-LOCATION;VALUE=URI;X-ADDRESS=Coava Coffee Roasters in Po
 rtland\, OR\, USA\, 1300 SE Grand Ave a\, Portland\, OR 97214\, USA;X-APPL
 E-RADIUS=72;X-TITLE=Coava Coffee Roasters:45.513549;-122.660602
END:VEVENT
END:VCALENDAR