BEGIN:VCALENDAR
VERSION:2.0
PRODID:Events Booking
BEGIN:VEVENT
UID:69e9f8f2c7f05
SUMMARY:Chapter Meeting – Raise your AI IQ: How to get smart while keepin
 g your data safe and your honor intact
DESCRIPTION:Chapter Meeting
 6:00 - 6:45 Networking / Social Time&nbsp\;

  6:45 - 8:00 Panelist Discussion&nbsp\;
 8:00 - 8:30 Q &amp\; A / Network
 ing Time&nbsp\;
 &nbsp\;
 Topic:&nbsp\;Raise your AI IQ: How to get smar
 t while keeping your data safe and your honor intact
 The objective of th
 e panel discussion is to foster a comprehensive understanding of the criti
 cal intersection between artificial intelligence (AI) and the imperative o
 f ensuring the safekeeping and integrity of data. Through insightful disco
 urse and diverse perspectives\, the panel aims to explore innovative strat
 egies\, ethical considerations\, and technological solutions that can be e
 mployed to safeguard data in an increasingly AI-driven landscape. By addre
 ssing key challenges and sharing best practices\, the discussion aims to e
 mpower participants with the knowledge and insights needed to navigate the
  evolving landscape of AI while prioritizing data security and integrity.
LOCATION:721 NW 9th Ave\, Portland\, OR 97209\, USA
DTSTART:20240228T020000Z
DTEND:20240228T043000Z
DTSTAMP:20230925T221530Z
ORGANIZER;CN=PMI Portland Chapter:MAILTO:communications@pmi-portland.org
GEO:45.52823;-122.68058
X-APPLE-STRUCTURED-LOCATION;VALUE=URI;X-ADDRESS=721 NW 9th Ave\, Portland\,
  OR 97209\, USA;X-APPLE-RADIUS=72;X-TITLE=Ecotrust Building:45.52823;-122.
 68058
END:VEVENT
END:VCALENDAR