BEGIN:VCALENDAR
VERSION:2.0
PRODID:Events Booking
BEGIN:VEVENT
UID:69e8b1adec239
SUMMARY:Chapter Meeting – Change Management Part 2\; Panel Discussion
DESCRIPTION:PDU Power Session
 Our September PDU Power Session will be a P
 art 2 Discussion on Change Management. This time\, we have a full panel di
 scussing additional aspects and insights into Change Management\, how Proj
 ect Management IS Change Management\, and how we are all involved in this 
 process. We’ll touch on the differences between Change Management in an 
 Agile vs Waterfall setting\, and provide some tools to use that we can all
  utilize in our roles to ensure project success. This will be a panel disc
 ussion between several experts on change management\, each having varied r
 oles in that field.
 6:30 - 7:00 Networking / Social Time&nbsp\;
 7:00 -
  8:00 Presentation&nbsp\;
 8:00 - 8:30 Q &amp\; A / Networking Time&nbsp\
 ;
 &nbsp\;
LOCATION:721 NW 9th Ave\, Portland\, OR 97209\, USA
DTSTART:20240918T013000Z
DTEND:20240918T033000Z
DTSTAMP:20230925T221530Z
ORGANIZER;CN=PMI Portland Chapter:MAILTO:communications@pmi-portland.org
GEO:45.52823;-122.68058
X-APPLE-STRUCTURED-LOCATION;VALUE=URI;X-ADDRESS=721 NW 9th Ave\, Portland\,
  OR 97209\, USA;X-APPLE-RADIUS=72;X-TITLE=Eco Trust Billy Frank Jr. Confer
 ence Room  :45.52823;-122.68058
END:VEVENT
END:VCALENDAR