BEGIN:VCALENDAR
VERSION:2.0
PRODID:Events Booking
BEGIN:VEVENT
UID:69e97f06d9140
SUMMARY:Chapter Meeting – AI Powered Project Management
DESCRIPTION:Chapter Meeting
 Topic:&nbsp\;AI Powered Project Management
 
 Attendees will learn to harness ChatGPT's prompts effectively\, gaining in
 sights and strategies for optimal utilization. PM_AI merges AI techniques 
 with project management\, enhancing planning\, scheduling\, resource alloc
 ation\, risk management\, and decision-making. Leveraging AI's predictive 
 abilities empowers project managers to enhance efficiency\, acquire deeper
  insights\, and make well-informed decisions\, thereby elevating project s
 uccess rates.
LOCATION:Unique URL pending Registration
DTSTART:20240124T023000Z
DTEND:20240124T043000Z
DTSTAMP:20230925T221530Z
ORGANIZER;CN=PMI Portland Chapter:MAILTO:communications@pmi-portland.org
GEO:45.50647;-122.667988
X-APPLE-STRUCTURED-LOCATION;VALUE=URI;X-ADDRESS=Unique URL pending Registra
 tion;X-APPLE-RADIUS=72;X-TITLE=Virtual:45.50647;-122.667988
END:VEVENT
END:VCALENDAR