BEGIN:VCALENDAR
VERSION:2.0
PRODID:Events Booking
BEGIN:VEVENT
UID:69e987075adc0
SUMMARY:Chapter Meeting – Finding\, Feeling and Fueling Your Purpose
DESCRIPTION:Chapter Meeting
 Topic:&nbsp\;Finding\, Feeling and Fueling Yo
 ur Purpose
 Purpose and passion fuels performance\, retention\, and&nbsp\
 ;many other things. Yet most team members struggle to&nbsp\;connect the do
 ts on seeing their purpose in action. The&nbsp\;impact they make. How the 
 work they do truly matters to&nbsp\;the team\, organization\, client and o
 ther key stakeholders.As a leader and individual contributor\, how do you 
 help&nbsp\;people see the difference they make? How do you&nbsp\;recognize
  them in ways that matter? In this session\, we’ll&nbsp\;share specific 
 ways our top leaders achieve this that are&nbsp\;easy to implement on any 
 team!
LOCATION:Unique URL pending Registration
DTSTART:20231206T023000Z
DTEND:20231206T043000Z
DTSTAMP:20230925T221530Z
ORGANIZER;CN=PMI Portland Chapter:MAILTO:communications@pmi-portland.org
GEO:45.50647;-122.667988
X-APPLE-STRUCTURED-LOCATION;VALUE=URI;X-ADDRESS=Unique URL pending Registra
 tion;X-APPLE-RADIUS=72;X-TITLE=Virtual:45.50647;-122.667988
END:VEVENT
END:VCALENDAR