BEGIN:VCALENDAR
VERSION:2.0
PRODID:Events Booking
BEGIN:VEVENT
UID:69e9224f76f4d
SUMMARY:2024 Annual Conference
DESCRIPTION:2024 PMI Portland Annual Conference
 Friday\, April19th\, 2024
  8am-5pm Pacific
 Registration has reached venue capacity and will close 
 at the end of the day March 31.
 
 Speakers
 Schedule
 
LOCATION:721 NW 9th Ave\, Portland\, OR 97209\, USA
DTSTART:20240419T150000Z
DTEND:20240420T000000Z
DTSTAMP:20260422T193231Z
ORGANIZER;CN=PMI Portland Chapter:MAILTO:communications@pmi-portland.org
GEO:45.52823;-122.68058
X-APPLE-STRUCTURED-LOCATION;VALUE=URI;X-ADDRESS=721 NW 9th Ave\, Portland\,
  OR 97209\, USA;X-APPLE-RADIUS=72;X-TITLE=Ecotrust Building:45.52823;-122.
 68058
END:VEVENT
END:VCALENDAR