BEGIN:VCALENDAR
VERSION:2.0
PRODID:Events Booking
BEGIN:VEVENT
UID:69eb35c6a8fd9
SUMMARY:2022 Virtual Spring Conference May 6
DESCRIPTION:PMI Portland Conferences have provided professionals premier ed
 ucational experiences&nbsp\;in project management for 21 years. You are in
 vited to this year's Spring Conference\, with the theme&nbsp\;LEAP: Learn 
 from the past\, engage in today\, adapt for tomorrow\, plan for the future
 .&nbsp\; Join us\, as we gather with the best in the profession to expand 
 your knowledge\, make connections\, and elevate each other.
LOCATION:Unique URL pending Registration
DTSTART:20220506T150000Z
DTEND:20220506T193000Z
DTSTAMP:20260424T092006Z
ORGANIZER;CN=PMI Portland Chapter:MAILTO:communications@pmi-portland.org
GEO:45.50647;-122.667988
X-APPLE-STRUCTURED-LOCATION;VALUE=URI;X-ADDRESS=Unique URL pending Registra
 tion;X-APPLE-RADIUS=72;X-TITLE=Virtual:45.50647;-122.667988
END:VEVENT
END:VCALENDAR