BEGIN:VCALENDAR
VERSION:2.0
PRODID:Events Booking
BEGIN:VEVENT
UID:69eadffbd5232
SUMMARY:2022 Virtual Fall Conference Sep 23
DESCRIPTION:Virtual Annual Conference: L.E.A.P. ACT II09-23-2022 Virtually 
 9:00 am -2:30 pmSponsored by the Platinum Sponsor: Apex Systemsand by the 
 Bronze Sponsors: Advisicon\, and Be Productive
 Location: Online Only
LOCATION:Unique URL pending Registration
DTSTART:20220923T160000Z
DTEND:20220923T213000Z
DTSTAMP:20260424T031403Z
ORGANIZER;CN=PMI Portland Chapter:MAILTO:communications@pmi-portland.org
GEO:45.50647;-122.667988
X-APPLE-STRUCTURED-LOCATION;VALUE=URI;X-ADDRESS=Unique URL pending Registra
 tion;X-APPLE-RADIUS=72;X-TITLE=Virtual:45.50647;-122.667988
END:VEVENT
END:VCALENDAR